BEGIN:VCALENDAR
VERSION:2.0
PRODID:-//Watchmen - ECPv6.13.2.1//NONSGML v1.0//EN
CALSCALE:GREGORIAN
METHOD:PUBLISH
X-ORIGINAL-URL:https://watchmen.ngo
X-WR-CALDESC:Events for Watchmen
REFRESH-INTERVAL;VALUE=DURATION:PT1H
X-Robots-Tag:noindex
X-PUBLISHED-TTL:PT1H
BEGIN:VTIMEZONE
TZID:UTC
BEGIN:STANDARD
TZOFFSETFROM:+0000
TZOFFSETTO:+0000
TZNAME:UTC
DTSTART:20180101T000000
END:STANDARD
END:VTIMEZONE
BEGIN:VEVENT
DTSTART;TZID=UTC:20220503T170000
DTEND;TZID=UTC:20220503T190000
DTSTAMP:20260423T125200
CREATED:20220503T211224Z
LAST-MODIFIED:20220503T211224Z
UID:4511-1651597200-1651604400@watchmen.ngo
SUMMARY:Prospect Park Clean Up
DESCRIPTION:Join Watchmen clean up our parks and our neighborhood \nEvery Tuesdays 5pm-7pm at Prospect Park\, Des Moines \nFor any question please call or text Lokus Ngo for best response. \n515-988-0716
URL:https://watchmen.ngo/event/prospect-park-clean-up/
END:VEVENT
BEGIN:VEVENT
DTSTART;TZID=UTC:20210501T100000
DTEND;TZID=UTC:20210501T220000
DTSTAMP:20260423T125200
CREATED:20210501T014919Z
LAST-MODIFIED:20210501T051302Z
UID:4480-1619863200-1619906400@watchmen.ngo
SUMMARY:Transplanting and Food Boxes Give Away
DESCRIPTION:During Watchmen Day 30 Days Challenge we will do as many things as possible for mankind. \nWe will give 200 food boxes to 200 families during our our 12 hours plants transplanting into individual pots. \nYou can drive through pick up food. We encourage you to help us with some transplanting. Join the Watchmen Operations. \nWe will attempt to transplant 2000 plants on this day(May 1st). That is a lot of labor hours. \nWe will give away 1000 plants and compost the following weeks to the community(May 8th 10am-2pm)(if you have plants to give please drop it off here). \n  \nJoin our event. We will also BBQ- free food for all helpers. \nThere will be pop cans you can painted on. Kids friendly event. \nYou will also learn how to make a paper pot invented by the Watchmen. \nWear masks and social distance require. \n10am to 10pm Saturday May 1st \nWatchmen community Center \n2723 Euclid Ave\, Des Moines\, IA 50310 \n  \nI’m looking forward to seeing you here \nLokus Ngo
URL:https://watchmen.ngo/event/transplanting-and-food-boxes-give-away/
END:VEVENT
BEGIN:VEVENT
DTSTART;TZID=UTC:20210424T100000
DTEND;TZID=UTC:20210424T160000
DTSTAMP:20260423T125200
CREATED:20210316T081829Z
LAST-MODIFIED:20210401T065735Z
UID:4341-1619258400-1619280000@watchmen.ngo
SUMMARY:Watchmen Day
DESCRIPTION:  \nWatchmen Day Event\nDate: April 24th\, 2021 \nTime: 10:00am-2pm \nLocation: Prospect Park\, Des Moines Iowa \n1225 Prospect Rd\, Des Moines\, IA 50310 \nWhat is a Watchmen Days?\nWatchmen Day is a day we do something good for mankind. \nThis is the day we will come together and celebrate the movement that we can be the greatest asset to our community by contributing our time\, effort\, and resources for the benefit of mankind. This is the beginning of a long journey for all Watchmen in the pursuit of ending suffering to humanity and ensuring the continuation of life on earth. \nActivities on Watchmen Day event: Due to Covid 19 there are restriction that prevent us from gathering on large group to participating in all watchmen activities. So we are breaking down in to multiple small event \nApril 24th\, 2021 \n\nWe clean up litter from the park and debris left behind by the homeless in the wood\, clean up Des Moines River\, Clean up the stream. We will join forces with Earthday and clean up the earth.\n\nPlanting: \n\nFree food for everyone-feed the community\nMartial Art Demonstration by the Watchmen: Self defense and Mix Martial Art\nMusic\nPlants give away to attendee\nThe Introductions of the Watchmen Operations: Green the Earth Project With Fruit Trees(Watchmen Trees)\,  Watchmen Community Garden\, Watchmen Bee Farming\, Watchmen Habitat for Pollinator\, Watchmen Community Composting\, Watchmen Community Fridge\, Watchmen Food Pantry\, Watchmen Training Center(youth development center through martial art training and guidance)\n\nWanna Help? Fill out the Watchmen Day Volunteer Sign Up form below.\nFirst and Last Name *Email *Your Phone Number Feed the Community(you can pick more than one)? *Packing FoodHandling out foodNoneClean Up Prospect Park(you can pick more than one) *Pick up litter on the park-Difficult Level: EasyClean up the creek/stream-Difficult Level: MediumPick up litter along the Des Moines river bank-Difficult level: Medium-do not get close to the water unless you know how to swimClean up trash at homeless site-Difficult Level: Hard.-Strong mentality\, you also need to wear long clothes and thick glovesClean Up Litter in the wood-Difficult Level: Medium-Need to wear long clothesNoneTransplanting  *Transplanting young seedling into small containersFilling dirt into containersHandling out for plants to attendeesNoneTell us why you like to join the Watchmen Day? *WebsiteSubmit\nAs Covid-19 still be around- Everyone please maintain safety distance and wear a mask. \nThings we can do on Watchmen Weeks from April 15th to May 15ths. \n3 things you can do on Watchmen Day Movement anywhere  in the world: \n\nSupporting\n\nHelp the needy and the less fortunate like homeless\nHelp the elderly and those who can’t help themselves\nGive someone a helping hand\nTeach someone a life skill\nTake care of your community\nStarting or joint a good cause\nFeed the hunger\nBe supportive and be kind to other\nBecome a mentor\n\n\n\n  \n\nProtecting\n\nStand up for someone\nStand up against bullies\nStand up for what is right\nProtect those who can’t protect themselves\nWatch over your community-your neighborhood\nVoice up for those who can’t\nTrain someone to protect themselves\nBe alarmed\, be a whistleblower\nStop Criminal Activities in your community\nKeeping peace\n\n\n\n\nPreserving life\n\nProtecting the environment\nEnvironmental awareness-share your idea of why we should protect our environment\nRecycling\nStart a compost bin or join a community composting\nPlant trees-fruit trees\nGardening\nHelping pollinators like bees and butterflies to repopulating plants on earth by starting bee farming or start a flower patch.\nClean up the earth: litter\, trash\, parks\, river\, creek\, your community\nDonate Blood\nReduce the consumption of resources\n\n\n\n  \nHow you can help spread the Watchmen Day Movement \n\nShare it one social media #WatchmenOperations #WatchmenDay\, #WatchmenDayMovement\, #WatchmenDayEarthday\, WatchmenDayCommunityWatch\, #WatchmenDayTrashFree\, #WatchmendayStopBullies\, #WatchmenDayFruitTrees\, #WatchmenDayRecycle\, WatchmenDayEndHunger\nInvite friends to join the Watchmen Day movement\nBuy our shirt Watchmen Day\nDo something for the benefits of mankind\n\n 
URL:https://watchmen.ngo/event/watchmen-day/
END:VEVENT
BEGIN:VEVENT
DTSTART;TZID=UTC:20201122T120000
DTEND;TZID=UTC:20201122T170000
DTSTAMP:20260423T125200
CREATED:20201117T184341Z
LAST-MODIFIED:20201119T140636Z
UID:4245-1606046400-1606064400@watchmen.ngo
SUMMARY:Free Thanksgiving Meals for Homeless and the Community
DESCRIPTION:FREE Thanksgiving Hot Meals for the community right here in Des Moines.\n  \n \nEveryone should experience a full Thanksgiving meal.\nWatchmen is partnering up with our long time partner(Kingdom Connection) to support our community.\nTogether we will cook and distribute 250 delicious hot Thanksgiving meals to the homeless and the community. \n  \n\nHosted and sponsored by: Kingdom Connection Outreach Ministries and Watchmen\nDate: Sunday\, November 22nd\, 2020\nLocation #1:\nDine-in or Pick Up: 12:00 pm to 2:00 pm\nCentral Iowa Shelter & Service\n1420 Mulberry Avenue\, Des Moines\, IA 50309 \nLocation #2:\nDrive-thru/Pick-up only: 3:00 pm to 5:00 pm\nWatchmen Community Center\n2723 Euclid Avenue\, Des Moines\, IA 50310 \nMask is required and social distance is mandatory. \n  \nSupport us: Every meal worth $10 in value. How many meals will you like to give today?\nEvery dollar will help us keep our operations going strong. \n\n		\n		Thanksgiving Hot Meals for Homeless$20=2 Meals$10= 1 Meals$20= 2 Meals$50= 5 Meals$100= 10 Meals$2500= 250 MealsOther
URL:https://watchmen.ngo/event/thanksgiving-meals-for-homeless-and-the-community/
END:VEVENT
BEGIN:VEVENT
DTSTART;TZID=UTC:20201024T110000
DTEND;TZID=UTC:20201024T170000
DTSTAMP:20260423T125200
CREATED:20201005T214505Z
LAST-MODIFIED:20201005T215914Z
UID:4236-1603537200-1603558800@watchmen.ngo
SUMMARY:Watchmen Community Garden Preparation
DESCRIPTION:Please join us on this end of season garden clean up and get the garden ready for spring planting. \nActivities: \n\nWe will be harvesting and removing all the plants from the garden\nBuild a stormwater catcher pond: already pre dig\, need extra digging with a shovel\, and put the liner on it.\nBuild 3 compost bins\nTilt the soil: mist the topsoil and manure into the soil.\nPutting mulch around the perimeter to prevent weeds from invading the garden\n\n  \nTool: \nWe have a few shovels\, some garden tools and a wheel barrel. If you have any please bring with you if possible. \nWe are still looking for a tiller. If you have one please see if you can bring it. Please let us know in advance. \n  \nFree Lunch: \nLunch will be serving at 1:00 pm. \n  \nCovid-19 Safety: \nWorking in small group of 3 or less. \nWhen you work in a group with close contact-wearing a mask is needed. \nWe will be handing out Watchmen Masks to everyone($10 value) \n  \nIf you like to lease a plot to planting please sign up for a plot. \nWhat is the purpose of the Watchmen Community Garden? \nWe educate our youth and our community on gardening \nBring  fresh produce back to our food pantry \nProduce income from our harvest to fund the watchmen Operations: Martial Art\, Self Defense for youth and for our community\, food pantry\, community clean up\, environmental protection\, Watchmen Community Patrol\, Local Disaster Relief.
URL:https://watchmen.ngo/event/watchmen-community-garden-preparation/
END:VEVENT
BEGIN:VEVENT
DTSTART;TZID=UTC:20191026T093000
DTEND;TZID=UTC:20191026T150000
DTSTAMP:20260423T125200
CREATED:20190925T074425Z
LAST-MODIFIED:20190925T074801Z
UID:3992-1572082200-1572102000@watchmen.ngo
SUMMARY:TRASH FREE MOVEMENT
DESCRIPTION:Have you seen enough garbage flying around and pile up across the street\, parks\, river\, etc that polluted our environment\, clog up the storm sewer\, endanger to wildlife? It’s about time we do something about it. March with us for a trash-free community. \nWatchmen Community is hosting a Trash Free Movement on October 26th\, 2019. \nCo-host: Prospect Park Neighborhood Association and Kingdom Connection Village \nCurrent participating organization: Creative Vision\, CommonBond Community\, BeBrave\, Project Hope Connection \nTrash Free Movement Costume. We recommend everyone to wear a costume during the march that promotes garbage awareness and environment protection. \nCostume Contest: Winner will get prizes. Made your own costume. Think about going green\, recycle\, environment\, trash\, littering\, can\, bags\, stuff that end up on in the river\, ocean\, the storm sewer\, thing that left on the park\, the neighbor\, etc. \nKingdom Connection will bring their drill team during our Marching for a Trash Free Movement \nMusic: DJ IVAN – Ivan has been a long time DJ for Party and Wedding \nBBQ\, Food and drinks are available to everyone. \nWe will clean up Prospect Park. \nKids\, the elder\, and people that are allergic to nature will be cleaning at the parking- light duty but time-consuming \nWe need about 30 young adult or adults cleaning up in the wood where homeless people left their trash behind-big job!  We like to haul all the junk\, broken bicycles\, clothes\, craft\, bottles\, etc. out of there. \n  \nThe Des Moines Park and Rec will provide bags\, gloves\, and grapper.  However\, it may not be enough for everyone. Please bring your own if you have any. \n  \nThis is a rough draft you can view \nMore detail will be added in a few days. Thank you! \n  \n 
URL:https://watchmen.ngo/event/trash-free-movement/
END:VEVENT
BEGIN:VEVENT
DTSTART;TZID=UTC:20180814T183000
DTEND;TZID=UTC:20180814T203000
DTSTAMP:20260423T125200
CREATED:20180609T063823Z
LAST-MODIFIED:20180822T040222Z
UID:3781-1534271400-1534278600@watchmen.ngo
SUMMARY:Watchmen Community Meeting
DESCRIPTION:We welcome all resident to join the Watchmen Community monthly meeting. \nThe purpose of this meeting: \nIt is to gather Watchmen in the community to find a solution to the problems we are dealing with our community or our society. How can we build a better society and a safer community? \nTopic includes:  \nCrimes\, gang\, drug\, Vandalism\, Burglary\, Bullying\, Trash\, Environment\, homelessness\, health\, etc. \nStarting: We will identify the problem and find a solution for it. All the talk in the world will not change a thing until we are starting to take actions. \nWe are here to stating the fact about the problem in our community\, and together we will find a solution\, make a plan\, find resources and take actions. \nMeeting time and date:   Second Tuesday of every month at 6:30pm-8:30 pm. New member come at 6:30 pm -7 pm for Watchmen presentation/orientation/sign up. \nWatchmen Community Meeting date for 2018. \nAugust 14th\, September 11th\, October 9th\, November 13th\, December 11th \n  \nJoin us!
URL:https://watchmen.ngo/event/watchmen-community-meeting/
END:VEVENT
END:VCALENDAR